BEGIN:VCALENDAR
VERSION:2.0
PRODID:-// eRoom plugin //NONSGML v1.0//EN
CALSCALE:GREGORIAN
BEGIN:VEVENT
UID:eRoom-1776760687
SUMMARY:UE12/EC4 Biotechnologie, Bioproduction, Biomécaments (Pr KOFFI) Option Pharmacie  industrielle
LOCATION:Zoom
DESCRIPTION:UE12/EC4 Biotechnologie\, Bioproduction\, Biomécaments (Pr KOF
 FI) Option Pharmacie industrielle is inviting you to a scheduled Zoom meet
 ing.\n\nJoin Zoom Meeting\nhttps://us06web.zoom.us/j/89091976299?pwd=iAbNA
 LfTisDuv0W552Zb3Q05nbHo3C.1\n\nMeeting ID: 89091976299\nPasscode: 1010\n
URL;VALUE=URI:https://us06web.zoom.us/j/89091976299?pwd=iAbNALfTisDuv0W552Zb3Q05nbHo3C.1
DTSTART:20240909T140000Z
DTEND:20240909T190000Z
DTSTAMP:20260421T083807Z
BEGIN:VALARM
ACTION:DISPLAY
DESCRIPTION:Reminder
TRIGGER;RELATED=START:-PT15M
END:VALARM
END:VEVENT
END:VCALENDAR