BEGIN:VCALENDAR
VERSION:2.0
PRODID:-// eRoom plugin //NONSGML v1.0//EN
CALSCALE:GREGORIAN
BEGIN:VEVENT
UID:eRoom-1776792847
SUMMARY:ETUDE DE STABILITE
LOCATION:Zoom
DESCRIPTION:ETUDE DE STABILITE is inviting you to a scheduled Zoom meeting.
 \n\nJoin Zoom Meeting\nhttps://us06web.zoom.us/j/86325886505?pwd=rMIkCq4wg
 cVuvHumjQ5AfTQW2tasFz.1\n\nMeeting ID: 86325886505\nPasscode: 1010\n
URL;VALUE=URI:https://us06web.zoom.us/j/86325886505?pwd=rMIkCq4wgcVuvHumjQ5AfTQW2tasFz.1
DTSTART:20241211T090000Z
DTEND:20241211T140000Z
DTSTAMP:20260421T173407Z
BEGIN:VALARM
ACTION:DISPLAY
DESCRIPTION:Reminder
TRIGGER;RELATED=START:-PT15M
END:VALARM
END:VEVENT
END:VCALENDAR